BEGIN:VCALENDAR
VERSION:2.0
PRODID:-//https://richemont-club.at///NONSGML kigkonsult.se iCalcreator 2.10.15//
METHOD:PUBLISH
BEGIN:VEVENT
UID:20260424T173110UTC-9522maUZP6@https://richemont-club.at/
DTSTAMP:20260424T173110Z
DESCRIPTION: https://richemont-club.at/de-ch/ch-events/ereignis/22-studienr
 eise-athen
DTSTART:20260504T100000Z
DTEND:20260506T100000Z
LOCATION:Richemont Fachschule (Seeburgstrasse 51)
SUMMARY:Studienreise Athen
URL:https://richemont-club.at/de-ch/ch-events/ereignis/22-studienreise-athe
 n
END:VEVENT
BEGIN:VEVENT
UID:20260424T173110UTC-952353J97V@https://richemont-club.at/
DTSTAMP:20260424T173110Z
DESCRIPTION: https://richemont-club.at/de-ch/ch-events/ereignis/23-social-m
 edia-workshop-mit-marcel-paa-und-gv
DTSTART;VALUE=DATE:20260622
LOCATION:Richemont Fachschule (Seeburgstrasse 51)
SUMMARY:Social-Media Workshop mit Marcel Paa und GV
URL:https://richemont-club.at/de-ch/ch-events/ereignis/23-social-media-work
 shop-mit-marcel-paa-und-gv
END:VEVENT
BEGIN:VEVENT
UID:20260424T173110UTC-9524uTEIjx@https://richemont-club.at/
DTSTAMP:20260424T173110Z
DESCRIPTION: https://richemont-club.at/de-ch/ch-events/ereignis/28-irc-meet
 ing-italy-2026
DTSTART;VALUE=DATE:20260918
LOCATION:see attachment ()
SUMMARY:IRC Meeting Italy 2026
URL:https://richemont-club.at/de-ch/ch-events/ereignis/28-irc-meeting-italy
 -2026
END:VEVENT
END:VCALENDAR
